BEGIN:VCALENDAR
VERSION:2.0
PRODID:-//Fremont County BOCES - ECPv6.15.11//NONSGML v1.0//EN
CALSCALE:GREGORIAN
METHOD:PUBLISH
X-WR-CALNAME:Fremont County BOCES
X-ORIGINAL-URL:https://fcboces.org
X-WR-CALDESC:Events for Fremont County BOCES
REFRESH-INTERVAL;VALUE=DURATION:PT1H
X-Robots-Tag:noindex
X-PUBLISHED-TTL:PT1H
BEGIN:VTIMEZONE
TZID:UTC
BEGIN:STANDARD
TZOFFSETFROM:+0000
TZOFFSETTO:+0000
TZNAME:UTC
DTSTART:20230101T000000
END:STANDARD
END:VTIMEZONE
BEGIN:VEVENT
DTSTART;TZID=UTC:20240925T090000
DTEND;TZID=UTC:20240925T160000
DTSTAMP:20260423T043937
CREATED:20221208T205504Z
LAST-MODIFIED:20240701T204903Z
UID:2575-1727254800-1727280000@fcboces.org
SUMMARY:PTSB - "The Effective Teacher"
DESCRIPTION:This course is designed to provide teachers with the three key components to become an effective teacher\, which are positive expectations\, classroom management and lesson mastery. \nVisit our website www.fcboces.org to register for the class. You will pay your fee online for the class  on the BOCES website using PayPal. . Cash/check or money orders are accepted at our office located at 413 North 4th Street West. In the back of Rendezvous Elementary School. \nDate: September 25\, 2024 \nCost: $65 for 1/2 credit \nThe attendance fee is non-refundable if you cancel on us. Refundable if we have to cancel due to lack of participation. \nLocation of Class:  413 North 4th Street West\, Riverton\, WY. (Rendezvous School; North side of building in alley) \nTime: 9-4pm \nPhone: 856-2028 if any questions \nDeadline to sign up: September 18\, 2024 \n  Register now  \n  \n 
URL:https://fcboces.org/event/ptsb-the-effective-teacher-2/
CATEGORIES:Events,Upcoming Classes
END:VEVENT
END:VCALENDAR