BEGIN:VCALENDAR
VERSION:2.0
PRODID:-//Fremont County BOCES - ECPv6.15.11//NONSGML v1.0//EN
CALSCALE:GREGORIAN
METHOD:PUBLISH
X-ORIGINAL-URL:https://fcboces.org
X-WR-CALDESC:Events for Fremont County BOCES
REFRESH-INTERVAL;VALUE=DURATION:PT1H
X-Robots-Tag:noindex
X-PUBLISHED-TTL:PT1H
BEGIN:VTIMEZONE
TZID:UTC
BEGIN:STANDARD
TZOFFSETFROM:+0000
TZOFFSETTO:+0000
TZNAME:UTC
DTSTART:20210101T000000
END:STANDARD
END:VTIMEZONE
BEGIN:VEVENT
DTSTART;VALUE=DATE:20220718
DTEND;VALUE=DATE:20220721
DTSTAMP:20260422T023734
CREATED:20220504T155343Z
LAST-MODIFIED:20220504T165244Z
UID:2401-1658102400-1658361599@fcboces.org
SUMMARY:College Math Training
DESCRIPTION:This class is for recent High School graduates or incoming Seniors in High School. The class is designed to help prepare students to successfully complete the required math courses all students have to take in college. The class and book will be especially beneficial to students who struggle or do not like math. \nDate: July 18 – 20\, 2022 \nTime: 9:00 am – 1:00 pm \nFee: $50 \nDeadline: Friday\, July 1\, 2022 \nEach student will receive a training book entitled “Curing Your Math Hiccups Help for the Math Anxious\, Rusty Minds\, and the Reluctant Learners” by Dr. Marcy E. Tepper at no cost to the student. A $56 value. \nRegister now
URL:https://fcboces.org/event/college-math-training/
LOCATION:Fremont County BOCES\, 320 West Main\, 3rd Floor\, Riverton\,\, Wyoming\, WY\, 82501\, United States
CATEGORIES:Events,Upcoming Classes
ORGANIZER;CN="Fremont County BOCES":MAILTO:kbensonboces@gmail.com
END:VEVENT
BEGIN:VEVENT
DTSTART;TZID=UTC:20220719T080000
DTEND;TZID=UTC:20220719T170000
DTSTAMP:20260422T023734
CREATED:20220719T163224Z
LAST-MODIFIED:20220719T163224Z
UID:2430-1658217600-1658250000@fcboces.org
SUMMARY:Substitute Teacher Certification
DESCRIPTION:Are you looking for a part-time job with flexibility? \nFremont County school districts NEED substitute teachers! \nFremont County BOCES will be offering a certification class on the following dates: \nDates:\nNovember 1-4\, 2022\nYOU MUST ATTEND ALL FOUR SESSIONS – PLEASE CALL THE BOCES OFFICE TO CONFIRM THE CLASS IS STILL RUNNING \nPlease register by Friday October 28\, 2022.   \nBOCES Fee:\n$150.00 \nAll sessions will be held at the Fremont County BOCES round room located at 320 West Main (Old Riverton High School / 6th Grade Building) in Riverton\, WY. In order to log the required 24-hours for certification\, Attendance to all four classes is mandatory. and will be taken at the beginning of each session. \nEach participant will be required to provide a $150 payment at the time of registration. Names will not be added to the official roster until payment is received. The attendance fee is non-refundable. \nVisit our website www.fcboces.org to register or visit BOCES office at 413 north Fourth Street West (Rendezvous Elementary School) to pay in cash or check. \n No registrations or payments will be accepted the first day of class. \nUpon successful completion of this course\, students will be required to apply to the State of Wyoming Professional Teaching Standards Board (PTSB) for their certification. PTSB will require applicants pay a $125 application fee which includes the application and fingerprinting processing. \nFor information on how you can become certified to substitute teach contact: Fremont County BOCES\, at (307) 856-2028. \nRegister now
URL:https://fcboces.org/event/substitute-teacher-certification-2/
CATEGORIES:Events
END:VEVENT
END:VCALENDAR