BEGIN:VCALENDAR
VERSION:2.0
PRODID:-//Fremont County BOCES - ECPv6.15.11//NONSGML v1.0//EN
CALSCALE:GREGORIAN
METHOD:PUBLISH
X-ORIGINAL-URL:https://fcboces.org
X-WR-CALDESC:Events for Fremont County BOCES
REFRESH-INTERVAL;VALUE=DURATION:PT1H
X-Robots-Tag:noindex
X-PUBLISHED-TTL:PT1H
BEGIN:VTIMEZONE
TZID:UTC
BEGIN:STANDARD
TZOFFSETFROM:+0000
TZOFFSETTO:+0000
TZNAME:UTC
DTSTART:20200101T000000
END:STANDARD
END:VTIMEZONE
BEGIN:VEVENT
DTSTART;TZID=UTC:20210916T090000
DTEND;TZID=UTC:20210916T160000
DTSTAMP:20260422T181436
CREATED:20210527T195342Z
LAST-MODIFIED:20210804T164749Z
UID:2161-1631782800-1631808000@fcboces.org
SUMMARY:The Effective Teacher
DESCRIPTION:  \nThis course is designed to provide teachers with the three key components to become an effective teacher\, which are positive expectations\, classroom management and lesson mastery. \nAll sessions will be held at the Fremont County BOCES Round Room located at 320 West Main Street (Old Riverton High School / 6th Grade Bldg.) in Riverton\, Wyoming. \nEach participant will be required to provide a $65.00 payment at the time of registration. Names will not be added to the official roster until payment is received. The attendance fee is non-refundable. Make checks/money orders payable to: Fremont County BOCES. Credit cards are not accepted. \nPlease register by Tuesday November 2\, 2021. \nScholarships are available for this class. Please fill out a scholarship form under the heading “COURSES” and submit and  BOCES will get back to you through email. \nFor more information please call 307-856-2028 or visit us at 320 West Main\, 3rd Floor\, Riverton\, WY 82501\, or call (307) 856-2028. \nRegister now
URL:https://fcboces.org/event/the-effective-teacher/
CATEGORIES:Events,Upcoming Classes
END:VEVENT
END:VCALENDAR