BEGIN:VCALENDAR
VERSION:2.0
PRODID:-//Fremont County BOCES - ECPv6.15.11//NONSGML v1.0//EN
CALSCALE:GREGORIAN
METHOD:PUBLISH
X-ORIGINAL-URL:https://fcboces.org
X-WR-CALDESC:Events for Fremont County BOCES
REFRESH-INTERVAL;VALUE=DURATION:PT1H
X-Robots-Tag:noindex
X-PUBLISHED-TTL:PT1H
BEGIN:VTIMEZONE
TZID:UTC
BEGIN:STANDARD
TZOFFSETFROM:+0000
TZOFFSETTO:+0000
TZNAME:UTC
DTSTART:20190101T000000
END:STANDARD
END:VTIMEZONE
BEGIN:VEVENT
DTSTART;TZID=UTC:20200406T160000
DTEND;TZID=UTC:20200427T200000
DTSTAMP:20260423T215535
CREATED:20200406T093157Z
LAST-MODIFIED:20200530T050848Z
UID:1424-1586188800-1588017600@fcboces.org
SUMMARY:Certified Nursing Assistant Class April 2020
DESCRIPTION:Class Dates:\nApril 6 – 27\, 2020\nMonday – Friday\n4:00 – 8:00 PM \nClinicals: April 25 – 26\, 6:00 AM – 2:00 PM \nALL SESSIONS WILL BE HELD AT THE 320 WEST MAIN STREET\, RIVERTON\, WYOMING. \nEach participant will be required to provide a $675.00 payment at the time of registration. Names will not be placed to the sign-up list until payment is received. The attendance fee is non-refundable. Make checks payable to: Fremont County BOCES. Credit cards are not accepted. \nNo registrations or payments will be accepted the first day of class. \nUpon successful completion of this course\, students will be required to apply to the State Board of Nursing for $120.00 and Prometrics for their certification test at $115. The total cost will be $235. \nCriminal background check will be conducted through Wyoming DCI and FBI. DRUG TESTING and TB TESTING REQUIRED and administered in class \nFor more information contact Fremont County BOCES\, 320 West Main\, Riverton\, WY 82501\, or call (307) 856-2028. \nCertified Nursing Assistant Class April 2020 Class Application\nRegister now
URL:https://fcboces.org/event/certified-nursing-assistant-class-april-2020/
LOCATION:Fremont County BOCES\, 320 West Main\, 3rd Floor\, Riverton\,\, Wyoming\, WY\, 82501\, United States
CATEGORIES:Events
ATTACH;FMTTYPE=image/jpeg:https://fcboces.org/wp-content/uploads/2020/04/image-2.jpg
ORGANIZER;CN="Fremont County BOCES":MAILTO:kbensonboces@gmail.com
END:VEVENT
BEGIN:VEVENT
DTSTART;TZID=UTC:20200428T090000
DTEND;TZID=UTC:20200428T150000
DTSTAMP:20260423T215535
CREATED:20200507T053653Z
LAST-MODIFIED:20200530T044221Z
UID:1620-1588064400-1588086000@fcboces.org
SUMMARY:PTSB Training - Project Based Learning
DESCRIPTION:(There will be a 1/2 hour lunch break) \nAll sessions will be held at the Fremont County BOCES Round Room located at 320 West Main Street (Old Riverton High School / 6th Grade Bldg.) in Riverton\, Wyoming. \nEach participant will be required to provide a $65.00 payment at the time of registration. Names will not be added to the official roster until payment is received. The attendance fee is non-refundable. Make checks/money orders payable to: Fremont County BOCES. Credit cards are not accepted. \nFor more information please call 307-856-2028 or visit us at 320 West Main\, 3rd Floor\, Riverton\, WY 82501\, or call (307) 856-2028. \nPTSB Training April 2020 Flyer & Application\nRegister now
URL:https://fcboces.org/event/ptsb-training-project-based-learning/
LOCATION:Fremont County BOCES\, 320 West Main\, 3rd Floor\, Riverton\,\, Wyoming\, WY\, 82501\, United States
CATEGORIES:Events
ATTACH;FMTTYPE=image/jpeg:https://fcboces.org/wp-content/uploads/2020/04/image-13.jpg
ORGANIZER;CN="Fremont County BOCES":MAILTO:kbensonboces@gmail.com
END:VEVENT
END:VCALENDAR