BEGIN:VCALENDAR
VERSION:2.0
PRODID:-//Fremont County BOCES - ECPv6.15.11//NONSGML v1.0//EN
CALSCALE:GREGORIAN
METHOD:PUBLISH
X-WR-CALNAME:Fremont County BOCES
X-ORIGINAL-URL:https://fcboces.org
X-WR-CALDESC:Events for Fremont County BOCES
REFRESH-INTERVAL;VALUE=DURATION:PT1H
X-Robots-Tag:noindex
X-PUBLISHED-TTL:PT1H
BEGIN:VTIMEZONE
TZID:UTC
BEGIN:STANDARD
TZOFFSETFROM:+0000
TZOFFSETTO:+0000
TZNAME:UTC
DTSTART:20180101T000000
END:STANDARD
END:VTIMEZONE
BEGIN:VEVENT
DTSTART;TZID=UTC:20200206T153000
DTEND;TZID=UTC:20200206T173000
DTSTAMP:20260422T225305
CREATED:20200511T053756Z
LAST-MODIFIED:20200530T044506Z
UID:1712-1581003000-1581010200@fcboces.org
SUMMARY:Fremont County Certified Nursing Assistant Association - February 2020
DESCRIPTION:Thursday\, February 6\, 2020 (3:30pm-5:30pm)\nLunch Sponsored by Help for Health Hospice \nLocation:\nAll meetings will be held at the BOCES round room on 320 West Main Street\, Riverton\, WY 82501. \nWhy an association? To represent the interests of Fremont County C.N.A.’s and to become the forefront of improving the quality of health care for all. \nCost? Organization yearly membership $75.00 or individual entity $20/year \n* An organization can sponsor a meeting lunch for an extra $50.00 – advertisement would be given to the sponsoring organization on County10/Radio \nBenefits: Lunch provided; 1 CEU given for attending; door prizes; Association card; have a voice in what trainings the C.N.A.’s feel they need and/or want. \nPlease contact Dr. Kristen Benson at BOCES at (307) 856-2028 with any questions. \nFremont County Certified Nursing Assistant Association Application & Flyer\nRegister now
URL:https://fcboces.org/event/fremont-county-certified-nursing-assistant-association-february-2020/
LOCATION:Fremont County BOCES\, 320 West Main\, 3rd Floor\, Riverton\,\, Wyoming\, WY\, 82501\, United States
CATEGORIES:Events
ATTACH;FMTTYPE=image/jpeg:https://fcboces.org/wp-content/uploads/2020/05/image1.jpg
ORGANIZER;CN="Fremont County BOCES":MAILTO:kbensonboces@gmail.com
END:VEVENT
BEGIN:VEVENT
DTSTART;TZID=UTC:20191107T153000
DTEND;TZID=UTC:20191107T173000
DTSTAMP:20260422T225305
CREATED:20200511T053102Z
LAST-MODIFIED:20200530T044548Z
UID:1709-1573140600-1573147800@fcboces.org
SUMMARY:Fremont County Certified Nursing Assistant Association - November 2019
DESCRIPTION:Thursday\, November 7\, 2019 (3:30pm-5:30pm)\nLunch Sponsored by Morning Star Care Manor \nLocation:\nAll meetings will be held at the BOCES round room on 320 West Main Street\, Riverton\, WY 82501. \nWhy an association? To represent the interests of Fremont County C.N.A.’s and to become the forefront of improving the quality of health care for all. \nCost? Organization yearly membership $75.00 or individual entity $20/year \n* An organization can sponsor a meeting lunch for an extra $50.00 – advertisement would be given to the sponsoring organization on County10/Radio \nBenefits: Lunch provided; 1 CEU given for attending; door prizes; Association card; have a voice in what trainings the C.N.A.’s feel they need and/or want. \nPlease contact Dr. Kristen Benson at BOCES at (307) 856-2028 with any questions. \nFremont County Certified Nursing Assistant Association Application & Flyer\nRegister now
URL:https://fcboces.org/event/fremont-county-certified-nursing-assistant-association-november-2019/
LOCATION:Fremont County BOCES\, 320 West Main\, 3rd Floor\, Riverton\,\, Wyoming\, WY\, 82501\, United States
CATEGORIES:Events
ATTACH;FMTTYPE=image/jpeg:https://fcboces.org/wp-content/uploads/2020/05/image1.jpg
ORGANIZER;CN="Fremont County BOCES":MAILTO:kbensonboces@gmail.com
END:VEVENT
END:VCALENDAR