BEGIN:VCALENDAR
VERSION:2.0
PRODID:-//Fremont County BOCES - ECPv6.15.11//NONSGML v1.0//EN
CALSCALE:GREGORIAN
METHOD:PUBLISH
X-WR-CALNAME:Fremont County BOCES
X-ORIGINAL-URL:https://fcboces.org
X-WR-CALDESC:Events for Fremont County BOCES
REFRESH-INTERVAL;VALUE=DURATION:PT1H
X-Robots-Tag:noindex
X-PUBLISHED-TTL:PT1H
BEGIN:VTIMEZONE
TZID:UTC
BEGIN:STANDARD
TZOFFSETFROM:+0000
TZOFFSETTO:+0000
TZNAME:UTC
DTSTART:20230101T000000
END:STANDARD
END:VTIMEZONE
BEGIN:VEVENT
DTSTART;TZID=UTC:20240925T090000
DTEND;TZID=UTC:20240925T160000
DTSTAMP:20260422T225238
CREATED:20221208T205504Z
LAST-MODIFIED:20240701T204903Z
UID:2575-1727254800-1727280000@fcboces.org
SUMMARY:PTSB - "The Effective Teacher"
DESCRIPTION:This course is designed to provide teachers with the three key components to become an effective teacher\, which are positive expectations\, classroom management and lesson mastery. \nVisit our website www.fcboces.org to register for the class. You will pay your fee online for the class  on the BOCES website using PayPal. . Cash/check or money orders are accepted at our office located at 413 North 4th Street West. In the back of Rendezvous Elementary School. \nDate: September 25\, 2024 \nCost: $65 for 1/2 credit \nThe attendance fee is non-refundable if you cancel on us. Refundable if we have to cancel due to lack of participation. \nLocation of Class:  413 North 4th Street West\, Riverton\, WY. (Rendezvous School; North side of building in alley) \nTime: 9-4pm \nPhone: 856-2028 if any questions \nDeadline to sign up: September 18\, 2024 \n  Register now  \n  \n 
URL:https://fcboces.org/event/ptsb-the-effective-teacher-2/
LOCATION:WY
CATEGORIES:Events,Upcoming Classes
END:VEVENT
BEGIN:VEVENT
DTSTART;TZID=UTC:20241015T090000
DTEND;TZID=UTC:20241015T160000
DTSTAMP:20260422T225238
CREATED:20221209T175047Z
LAST-MODIFIED:20241008T151015Z
UID:2593-1728982800-1729008000@fcboces.org
SUMMARY:PTSB - "Professionalism in Education"  CANCELLED
DESCRIPTION:This course addresses what a professional looks like and all of the characteristics that accompany it. Participants will learn what professional ethics are and how to handle conflict in a respectful\, professional manner. \nVisit our website www.fcboces.org to register for the class. You will pay your fee online for the class  on the BOCES website using PayPal. . Cash/check or money orders are accepted at our office located at 413 North Fourth Street West (Rendezvous School). \nDate: October 15\, 2024 \nCost: $65 for 1/2 credit \nThe attendance fee is non-refundable if you cancel on us. Refundable if we have to cancel due to lack of participation. \nLocation of Class:  413 North 4th Street West\, Riverton\, WY. (Rendezvous School; back side of building in alley) \nTime: 9-4pm \nPhone: 856-2028 if any questions \nDeadline to sign up:  October 8\, 2024 \nRegister now
URL:https://fcboces.org/event/ptsb-professionalism-in-education/
LOCATION:WY
END:VEVENT
BEGIN:VEVENT
DTSTART;TZID=UTC:20250326T090000
DTEND;TZID=UTC:20250326T160000
DTSTAMP:20260422T225238
CREATED:20220315T205623Z
LAST-MODIFIED:20250311T201948Z
UID:2363-1742979600-1743004800@fcboces.org
SUMMARY:PTSB - "Teaching Difficult Students" CANCELLED
DESCRIPTION:This course helps understand why developing classroom rules together can benefit everyone. They will learn various strategies to use with themselves as they deal with difficult students. Participants will understand what appropriate consequences are for certain behaviors and what are not. \nAll sessions will be held at the Fremont County BOCES; located at 413 North 4th Street West  (on the North side of Rendezvous Elementary School (blue door with sign) \nYou will pay your fee online for the class  on the BOCES website using PayPal/Cash. Check or money orders are accepted at our office located at 413 North Fourth Street West (Rendezvous School). \nDate: Wednesday March 26\, 2025 \nPlease register by March 19\, 2025 \nCost: $65 for 1/2 PTSB credit \nThe attendance fee is non-refundable. \nFor more information please call 307-856-2028 \nRegister now
URL:https://fcboces.org/event/teaching-tough-to-reach-students/
LOCATION:WY
CATEGORIES:Events,Upcoming Classes
END:VEVENT
BEGIN:VEVENT
DTSTART;TZID=UTC:20250521T090000
DTEND;TZID=UTC:20250521T160000
DTSTAMP:20260422T225238
CREATED:20250129T165346Z
LAST-MODIFIED:20250410T154343Z
UID:2872-1747818000-1747843200@fcboces.org
SUMMARY:Discipline with Dignity - CANCELLED!
DESCRIPTION:This course offers instructors ways to gain dignity and responsibility in the classroom. Participants will be introduced to the three-dimensional discipline model as well as how to implement creative discipline for out of control students. \nAll sessions will be held at the Fremont County BOCES; located at 413 North 4th Street West ( on the North side of Rendezvous Elementary School (blue door with sign) \nYou will pay your fee online for the class  on the BOCES website using PayPal/Cash. Check or money orders are accepted at our office located at 413 North Fourth Street West (Rendezvous School). \nDate: Wednesday May 21\, 2025 \nPlease register by May 14\, 2025 \nCost: $65 for 1/2 PTSB credit \nThe attendance fee is non-refundable. \nFor more information please call 307-856-2028 \nRegister now
URL:https://fcboces.org/event/discipline-with-dignity-2/
LOCATION:WY
CATEGORIES:Upcoming Classes
END:VEVENT
BEGIN:VEVENT
DTSTART;TZID=UTC:20250702T090000
DTEND;TZID=UTC:20250702T160000
DTSTAMP:20260422T225238
CREATED:20230217T163345Z
LAST-MODIFIED:20250129T170442Z
UID:2631-1751446800-1751472000@fcboces.org
SUMMARY:PTSB - "Start The School Year Right"
DESCRIPTION:This course is designed to provide teachers with a plan for starting the school year off right. Participants will learn what is needed at the beginning of the year to maximize learning in their classrooms throughout the school year. \nAll classes will be held at the Fremont County BOCES ( on the North side of Rendezvous Elementary School (blue door with sign) \nLocation: 413 N. 4th St. West\, Riverton\, WY \n You will pay our fee with PayPal.  Cash\, Check or money orders can be paid at our office at 413 North 4th street West (Rendezvous Middle School);  Riverton\, Wyoming. \nThe attendance fee is non-refundable. \nDate: Wednesday July 2\, 2025 \nRegister By:  June 25\, 2025 \nCost: $65.00 for 1/2 PTSB credit \nFor more information please call 307-856-2028  \n  \nRegister now
URL:https://fcboces.org/event/start-the-school-year-right/
LOCATION:WY
CATEGORIES:Events,Upcoming Classes
END:VEVENT
BEGIN:VEVENT
DTSTART;TZID=UTC:20251202T090000
DTEND;TZID=UTC:20251202T160000
DTSTAMP:20260422T225238
CREATED:20210222T162201Z
LAST-MODIFIED:20250924T162457Z
UID:2070-1764666000-1764691200@fcboces.org
SUMMARY:PTSB - "The Motivated Student" - CANCELLED
DESCRIPTION:This course will gain a better understanding on how to unleash student motivation and enthusiasm in the classroom. They will learn strategies on how to engage students so that they have an internal sense to want to learn and to produce high-quality work. \nThe class will be held at the Fremont County BOCES  located at the Boys & Girl’s Club (old Ashgrove Elementary School)\, Riverton\, Wyoming. \n510 N 1st. Street\, Riverton\, WYoming \nThe attendance fee is non-refundable.. If class is cancelled a refund will be issued. \nDate: December 9\, 2025 \nRegister by December 2\, 2025 \nFor more information please call 307-856-2028 \nRegister now
URL:https://fcboces.org/event/ptsb-the-motivated-student/
LOCATION:WY
CATEGORIES:Events,Upcoming Classes
END:VEVENT
BEGIN:VEVENT
DTSTART;TZID=UTC:20251202T090000
DTEND;TZID=UTC:20251204T170000
DTSTAMP:20260422T225238
CREATED:20210527T183303Z
LAST-MODIFIED:20251125T204409Z
UID:2147-1764666000-1764867600@fcboces.org
SUMMARY:Substitute Teacher Certification (FULL)
DESCRIPTION:Are you looking for a part-time job with flexibility? \nFremont County school districts NEED substitute teachers! \nYou must be 18 years of age to attend the class. \nThis class if for students “who do not have a permit” with the Professional Teaching Standards Board. This permit is valid for five years and is eligible for renewal through continuing education credits. \nThere is no need to take this class if you have a permit from years past.  In order to renew\, you must do the 2 credits (28 hours). \nFor those of you who have an Associate’s degree or sixty (60) semester hours from an accredited institution\, you do not need to take this class. Visit wyomingptsb.com for the application and information. You will be doing the traditional route.  \nDATES:  December 2-4\,2025 (All 3 days) \nTIME: 9:00 am – 5:00 pm\nYOU MUST ATTEND ALL  THREE SESSIONS FOR CERTIFICATION – PLEASE CALL THE BOCES OFFICE TO CONFIRM THE CLASS IS STILL RUNNING.  \nPlease register by November 25\, 2025 \nBOCES Fee: $150.00 \nAll classes will be held at the Boys & Girls Club (old Ashgrove Elementary) Door J \nLocation: 510 N. 1st. Street\, Riverton\, WY \nEach participant will be required to provide a $150 payment at the time of registration. Names will not be added to the official roster until payment is received.  ATTENDANCE FEE IS NON-REFUNDABLE. REFUNDED ONLY IF CLASS IS CANCELLED. \n No registrations or payments will be accepted the first day of class. \nUpon successful completion of this course\, students will be required to apply to the State of Wyoming Professional Teaching Standards Board (PTSB) for their certification. PTSB will require applicants pay a $125 application fee for the application and fingerprint processing. \nFor information on how you can become certified to substitute teach contact: Fremont County BOCES at  (307) 856-2028) \n\n   Register now
URL:https://fcboces.org/event/substitute-teacher-certification/
LOCATION:WY
CATEGORIES:Events,Upcoming Classes
END:VEVENT
BEGIN:VEVENT
DTSTART;TZID=UTC:20260331T083000
DTEND;TZID=UTC:20260402T163000
DTSTAMP:20260422T225238
CREATED:20240221T161952Z
LAST-MODIFIED:20260323T213425Z
UID:2801-1774945800-1775147400@fcboces.org
SUMMARY:Substitute Teacher Certification - CANCELLED
DESCRIPTION:Are you looking for a part-time job with flexibility? \nFremont County school districts NEED substitute teachers! \nYou must be 18 years of age to attend the class. \nThis class if for students “who do not have a permit” with the Professional Teaching Standards Board. This permit is valid for five years and is eligible for renewal through continuing education credits. \nThere is no need to take this class if you have a permit from years past.  In order to renew\, you must do the 5 credits (70 hours). \nFor those of you who have an Associate’s degree or sixty (60) semester hours from an accredited institution\, you do not need to take this class. Visit wyomingptsb.com for the application and information. You will be doing the traditional route.  \nFremont County BOCES will be offering a certification class on the following dates: \nDATES:  March 31\, April 1& 2\, 2026 (All 3 days) \nTIME: 8:30 am – 4:30 pm\nYOU MUST ATTEND ALL  THREE SESSIONS – PLEASE CALL THE BOCES OFFICE TO CONFIRM THE CLASS IS STILL RUNNING \nPlease register by March 24\, 2026 \nBOCES Fee: $150.00 \nFor more information please call 307-856-2028 or visit us at  510 N. 1st. Street\, Riverton\, WY. \nAll classes will be held at the Boys & Girls Club (old Ashgrove Elementary School) Door J \nLocation: 510 N. 1St. Street\, Riverton\, WY \nIn order to log the required 24-hours for certification\, attendance to all 3 classes is mandatory. and will be taken at the beginning of each session. \nEach participant will be required to provide a $150 payment at the time of registration. Names will not be added to the official roster until payment is received. THIS FEE IS NON REFUNDABLE! \nVisit our website: www.fcboces.org to register  \n No registrations or payments will be accepted the first day of class. \nUpon successful completion of this course\, students will be required to apply to the State of Wyoming Professional Teaching Standards Board (PTSB) for their certification. PTSB will require applicants pay a $125 application fee for the application and fingerprint processing. \nFor information on how you can become certified to substitute teach contact: Fremont County BOCES at  (307) 856-2028) \n   Class Registration                    
URL:https://fcboces.org/event/substitute-certification-class/
LOCATION:WY
CATEGORIES:Events,Upcoming Classes
END:VEVENT
END:VCALENDAR