BEGIN:VCALENDAR
VERSION:2.0
PRODID:-//Fremont County BOCES - ECPv6.15.11//NONSGML v1.0//EN
CALSCALE:GREGORIAN
METHOD:PUBLISH
X-ORIGINAL-URL:https://fcboces.org
X-WR-CALDESC:Events for Fremont County BOCES
REFRESH-INTERVAL;VALUE=DURATION:PT1H
X-Robots-Tag:noindex
X-PUBLISHED-TTL:PT1H
BEGIN:VTIMEZONE
TZID:UTC
BEGIN:STANDARD
TZOFFSETFROM:+0000
TZOFFSETTO:+0000
TZNAME:UTC
DTSTART:20240101T000000
END:STANDARD
END:VTIMEZONE
BEGIN:VEVENT
DTSTART;TZID=UTC:20250702T090000
DTEND;TZID=UTC:20250702T160000
DTSTAMP:20260423T162755
CREATED:20230217T163345Z
LAST-MODIFIED:20250129T170442Z
UID:2631-1751446800-1751472000@fcboces.org
SUMMARY:PTSB - "Start The School Year Right"
DESCRIPTION:This course is designed to provide teachers with a plan for starting the school year off right. Participants will learn what is needed at the beginning of the year to maximize learning in their classrooms throughout the school year. \nAll classes will be held at the Fremont County BOCES ( on the North side of Rendezvous Elementary School (blue door with sign) \nLocation: 413 N. 4th St. West\, Riverton\, WY \n You will pay our fee with PayPal.  Cash\, Check or money orders can be paid at our office at 413 North 4th street West (Rendezvous Middle School);  Riverton\, Wyoming. \nThe attendance fee is non-refundable. \nDate: Wednesday July 2\, 2025 \nRegister By:  June 25\, 2025 \nCost: $65.00 for 1/2 PTSB credit \nFor more information please call 307-856-2028  \n  \nRegister now
URL:https://fcboces.org/event/start-the-school-year-right/
CATEGORIES:Events,Upcoming Classes
END:VEVENT
END:VCALENDAR