BEGIN:VCALENDAR
VERSION:2.0
PRODID:-//Fremont County BOCES - ECPv6.15.11//NONSGML v1.0//EN
CALSCALE:GREGORIAN
METHOD:PUBLISH
X-WR-CALNAME:Fremont County BOCES
X-ORIGINAL-URL:https://fcboces.org
X-WR-CALDESC:Events for Fremont County BOCES
REFRESH-INTERVAL;VALUE=DURATION:PT1H
X-Robots-Tag:noindex
X-PUBLISHED-TTL:PT1H
BEGIN:VTIMEZONE
TZID:UTC
BEGIN:STANDARD
TZOFFSETFROM:+0000
TZOFFSETTO:+0000
TZNAME:UTC
DTSTART:20210101T000000
END:STANDARD
END:VTIMEZONE
BEGIN:VEVENT
DTSTART;TZID=UTC:20220621T090000
DTEND;TZID=UTC:20220621T160000
DTSTAMP:20260422T054651
CREATED:20200509T083228Z
LAST-MODIFIED:20220616T140617Z
UID:1677-1655802000-1655827200@fcboces.org
SUMMARY:PTSB - "Professionalism in Education" CANCELLED
DESCRIPTION:This course addresses what a professional looks like and all of the characteristics that accompany it. Participants will learn what professional ethics are and how to handle conflict in a respectful\, professional manner. \nAll sessions will be held at the Fremont County BOCES Round Room located at 320 West Main Street (Old Riverton High School / 6th Grade Bldg.) in Riverton\, Wyoming. \nVisit our website www.fcboces.org to register for the class. You will pay your fee online using PayPal. Cash and money orders are accepted at our office. \nPlease sign up by Friday June 15\,2022 \nFor more information please call 307-856-2028 or visit us at 320 West Main\, 3rd Floor\, Riverton\, WY 82501\,
URL:https://fcboces.org/event/ptsb-training-professionalism-in-education/
LOCATION:Fremont County BOCES\, 320 West Main\, 3rd Floor\, Riverton\,\, Wyoming\, WY\, 82501\, United States
CATEGORIES:Events,Upcoming Classes
ATTACH;FMTTYPE=image/jpeg:https://fcboces.org/wp-content/uploads/2020/05/image-17.jpg
ORGANIZER;CN="Fremont County BOCES":MAILTO:kbensonboces@gmail.com
END:VEVENT
END:VCALENDAR