BEGIN:VCALENDAR
VERSION:2.0
PRODID:-//Fremont County BOCES - ECPv6.15.11//NONSGML v1.0//EN
CALSCALE:GREGORIAN
METHOD:PUBLISH
X-WR-CALNAME:Fremont County BOCES
X-ORIGINAL-URL:https://fcboces.org
X-WR-CALDESC:Events for Fremont County BOCES
REFRESH-INTERVAL;VALUE=DURATION:PT1H
X-Robots-Tag:noindex
X-PUBLISHED-TTL:PT1H
BEGIN:VTIMEZONE
TZID:America/Denver
BEGIN:DAYLIGHT
TZOFFSETFROM:-0700
TZOFFSETTO:-0600
TZNAME:MDT
DTSTART:20200308T090000
END:DAYLIGHT
BEGIN:STANDARD
TZOFFSETFROM:-0600
TZOFFSETTO:-0700
TZNAME:MST
DTSTART:20201101T080000
END:STANDARD
BEGIN:DAYLIGHT
TZOFFSETFROM:-0700
TZOFFSETTO:-0600
TZNAME:MDT
DTSTART:20210314T090000
END:DAYLIGHT
BEGIN:STANDARD
TZOFFSETFROM:-0600
TZOFFSETTO:-0700
TZNAME:MST
DTSTART:20211107T080000
END:STANDARD
BEGIN:DAYLIGHT
TZOFFSETFROM:-0700
TZOFFSETTO:-0600
TZNAME:MDT
DTSTART:20220313T090000
END:DAYLIGHT
BEGIN:STANDARD
TZOFFSETFROM:-0600
TZOFFSETTO:-0700
TZNAME:MST
DTSTART:20221106T080000
END:STANDARD
END:VTIMEZONE
BEGIN:VEVENT
DTSTART;TZID=America/Denver:20210429T090000
DTEND;TZID=America/Denver:20210429T160000
DTSTAMP:20260423T015637
CREATED:20210221T155228Z
LAST-MODIFIED:20210326T154705Z
UID:2057-1619686800-1619712000@fcboces.org
SUMMARY:PTSB - "Discipline with Dignity"
DESCRIPTION:  \nAll sessions will be held at the Fremont County BOCES Round Room located at 320 West Main Street (Old Riverton High School / 6th Grade Bldg.) in Riverton\, Wyoming. \nEach participant will be required to provide a $65.00 payment at the time of registration. Names will not be added to the official roster until payment is received. The attendance fee is non-refundable. Make checks/money orders payable to: Fremont County BOCES. Credit cards are not accepted. \nPlease register by Monday April 26\, 2021. \nScholarships are available for this class. Please fill out a scholarship form under the heading “COURSES” and submit and  BOCES will get back to you through email.  \nFor more information please call 307-856-2028 or visit us at 320 West Main\, 3rd Floor\, Riverton\, WY 82501\, or call (307) 856-2028. \n April 2021 Application\n\nRegister now
URL:https://fcboces.org/event/discipline-with-dignity/
CATEGORIES:Events,Upcoming Classes
END:VEVENT
END:VCALENDAR